BEGIN:VCALENDAR
VERSION:2.0
PRODID:-//Focales
CALSCALE:GREGORIAN
METHOD:PUBLISH
X-WR-CALNAME:Focales
X-ORIGINAL-URL:https://focales.org/nullepartenfrance-clermont-ferrand/
X-WR-CALDESC:NULLE PART EN FRANCE
BEGIN:VEVENT
DTSTART:20160712T213000
DTEND:20160712T220000
SUMMARY:NULLE PART EN FRANCE
DESCRIPTION:
LOCATION:Place de la Victoire , Clermont-Ferrand
END:VEVENT
END:VCALENDAR
