BEGIN:VCALENDAR
VERSION:2.0
PRODID:-//Focales
CALSCALE:GREGORIAN
METHOD:PUBLISH
X-WR-CALNAME:Focales
X-ORIGINAL-URL:https://focales.org/welcome-clermontferrand/
X-WR-CALDESC:WELCOME
BEGIN:VEVENT
DTSTART:20160712T220000
DTEND:20160712T235000
SUMMARY:WELCOME
DESCRIPTION:
LOCATION:Place de la Victoire , Clermont-Ferrand
END:VEVENT
END:VCALENDAR
