BEGIN:VCALENDAR
VERSION:2.0
PRODID:-//Focales
CALSCALE:GREGORIAN
METHOD:PUBLISH
X-WR-CALNAME:Focales
X-ORIGINAL-URL:https://focales.org/lookingforrichard-clermontferrand/
X-WR-CALDESC:LOOKING FOR RICHARD
BEGIN:VEVENT
DTSTART:20160719T214500
DTEND:20160719T234500
SUMMARY:LOOKING FOR RICHARD
DESCRIPTION:
LOCATION:Place de la Victoire , Clermont-Ferrand
END:VEVENT
END:VCALENDAR
