BEGIN:VCALENDAR
VERSION:2.0
PRODID:-//Focales
CALSCALE:GREGORIAN
METHOD:PUBLISH
X-WR-CALNAME:Focales
X-ORIGINAL-URL:https://focales.org/westsidestory-clermontferrand/
X-WR-CALDESC:WEST SIDE STORY
BEGIN:VEVENT
DTSTART:20160802T213000
DTEND:20160802T235900
SUMMARY:WEST SIDE STORY
DESCRIPTION:
LOCATION:Place de la Victoire , Clermont-Ferrand
END:VEVENT
END:VCALENDAR
