BEGIN:VCALENDAR
VERSION:2.0
PRODID:-//Focales
CALSCALE:GREGORIAN
METHOD:PUBLISH
X-WR-CALNAME:Focales
X-ORIGINAL-URL:https://focales.org/courtsmetrages-clermontferrand/
X-WR-CALDESC:COURTS MÉTRAGES
BEGIN:VEVENT
DTSTART:20160809T213000
DTEND:20160809T230000
SUMMARY:COURTS MÉTRAGES
DESCRIPTION:
LOCATION:Place de la Victoire , Clermont-Ferrand
END:VEVENT
END:VCALENDAR
