BEGIN:VCALENDAR
VERSION:2.0
PRODID:-//Focales
CALSCALE:GREGORIAN
METHOD:PUBLISH
X-WR-CALNAME:Focales
X-ORIGINAL-URL:https://focales.org/concours-test-vu-d-ici/
X-WR-CALDESC:FESTIVAL « VU D&rsquo;ICI » &#8211; APPEL À FILMS
BEGIN:VEVENT
DTSTART:20161215T000000
DTEND:20161215T000000
SUMMARY:FESTIVAL « VU D&rsquo;ICI » &#8211; APPEL À FILMS
DESCRIPTION:
LOCATION:
END:VEVENT
END:VCALENDAR
