BEGIN:VCALENDAR
VERSION:2.0
PRODID:-//Focales
CALSCALE:GREGORIAN
METHOD:PUBLISH
X-WR-CALNAME:Focales
X-ORIGINAL-URL:https://focales.org/prix-du-carnet-de-voyage-etudiant/
X-WR-CALDESC:PRIX DU CARNET DE VOYAGE ÉTUDIANT
BEGIN:VEVENT
DTSTART:20160919T000000
DTEND:20160919T000000
SUMMARY:PRIX DU CARNET DE VOYAGE ÉTUDIANT
DESCRIPTION:
LOCATION:
END:VEVENT
END:VCALENDAR
