BEGIN:VCALENDAR
VERSION:2.0
PRODID:-//Focales
CALSCALE:GREGORIAN
METHOD:PUBLISH
X-WR-CALNAME:Focales
X-ORIGINAL-URL:https://focales.org/festival-minipixels/
X-WR-CALDESC:FESTIVAL MINIPIXELS
BEGIN:VEVENT
DTSTART:20161005T093000
DTEND:20161009T000000
SUMMARY:FESTIVAL MINIPIXELS
DESCRIPTION:
LOCATION:Cinéma Le Rio, Rue sous les Vignes, Clermont-Ferrand
END:VEVENT
END:VCALENDAR
