BEGIN:VCALENDAR
VERSION:2.0
PRODID:-//Focales
CALSCALE:GREGORIAN
METHOD:PUBLISH
X-WR-CALNAME:Focales
X-ORIGINAL-URL:https://focales.org/fete-du-cinema-danimation-2/
X-WR-CALDESC:FÊTE DU CINEMA D&rsquo;ANIMATION
BEGIN:VEVENT
DTSTART:20161003T090000
DTEND:20161011T000000
SUMMARY:FÊTE DU CINEMA D&rsquo;ANIMATION
DESCRIPTION:
LOCATION:Cinéma Le Rio, Rue sous les Vignes, Clermont-Ferrand
END:VEVENT
END:VCALENDAR
