BEGIN:VCALENDAR
VERSION:2.0
PRODID:-//Focales
CALSCALE:GREGORIAN
METHOD:PUBLISH
X-WR-CALNAME:Focales
X-ORIGINAL-URL:https://focales.org/hannah-arendt-en-presence-de-pierre-juquin/
X-WR-CALDESC:HANNAH ARENDT EN PRESENCE DE PIERRE JUQUIN
BEGIN:VEVENT
DTSTART:20160929T200000
DTEND:20160929T230000
SUMMARY:HANNAH ARENDT EN PRESENCE DE PIERRE JUQUIN
DESCRIPTION:
LOCATION:Cinéma le Rio, Clermont-Ferrand
END:VEVENT
END:VCALENDAR
