BEGIN:VCALENDAR
VERSION:2.0
PRODID:-//Focales
CALSCALE:GREGORIAN
METHOD:PUBLISH
X-WR-CALNAME:Focales
X-ORIGINAL-URL:https://focales.org/formation-les-heritiers/
X-WR-CALDESC:FORMATION LES HERITIERS
BEGIN:VEVENT
DTSTART:20160913T090000
DTEND:20160913T170000
SUMMARY:FORMATION LES HERITIERS
DESCRIPTION:
LOCATION:Cinéma Le Dyke
END:VEVENT
END:VCALENDAR
