BEGIN:VCALENDAR
VERSION:2.0
PRODID:-//Focales
CALSCALE:GREGORIAN
METHOD:PUBLISH
X-WR-CALNAME:Focales
X-ORIGINAL-URL:https://focales.org/formation-pour-un-instant-la-liberte/
X-WR-CALDESC:FORMATION POUR UN INSTANT LA LIBERTÉ
BEGIN:VEVENT
DTSTART:20170314T090000
DTEND:20170314T170000
SUMMARY:FORMATION POUR UN INSTANT LA LIBERTÉ
DESCRIPTION:
LOCATION:Cinéma le Dyke
END:VEVENT
END:VCALENDAR
