BEGIN:VCALENDAR
VERSION:2.0
PRODID:-//Focales
CALSCALE:GREGORIAN
METHOD:PUBLISH
X-WR-CALNAME:Focales
X-ORIGINAL-URL:https://focales.org/la-sociale-en-presence-du-realisateur-2/
X-WR-CALDESC:LA SOCIALE EN PRESENCE DU REALISATEUR
BEGIN:VEVENT
DTSTART:20161019T203000
DTEND:20161019T230000
SUMMARY:LA SOCIALE EN PRESENCE DU REALISATEUR
DESCRIPTION:
LOCATION:Cinéma le Rio, Clermont-Ferrand
END:VEVENT
END:VCALENDAR
