BEGIN:VCALENDAR
VERSION:2.0
PRODID:-//Focales
CALSCALE:GREGORIAN
METHOD:PUBLISH
X-WR-CALNAME:Focales
X-ORIGINAL-URL:https://focales.org/l-ecole-de-la-vie-en-presence-de-la-realisatrice/
X-WR-CALDESC:ÉCOLE EN VIE EN PRESENCE DE LA RÉALISATRICE
BEGIN:VEVENT
DTSTART:20160921T203000
DTEND:20160921T230000
SUMMARY:ÉCOLE EN VIE EN PRESENCE DE LA RÉALISATRICE
DESCRIPTION:
LOCATION:Cinéma le Rio, Clermont-Ferrand
END:VEVENT
END:VCALENDAR
