BEGIN:VCALENDAR
VERSION:2.0
PRODID:-//Focales
CALSCALE:GREGORIAN
METHOD:PUBLISH
X-WR-CALNAME:Focales
X-ORIGINAL-URL:https://focales.org/ateliers-cinema-avec-la-maison-aux-mille-images/
X-WR-CALDESC:INSCRIPTION AUX ATELIERS CINÉMA DE LA MAISON AUX MILLE IMAGES
BEGIN:VEVENT
DTSTART:20160924T140000
DTEND:20160924T170000
SUMMARY:INSCRIPTION AUX ATELIERS CINÉMA DE LA MAISON AUX MILLE IMAGES
DESCRIPTION:
LOCATION:Mairie, Rue Carnot, Billom
END:VEVENT
END:VCALENDAR
