BEGIN:VCALENDAR
VERSION:2.0
PRODID:-//Focales
CALSCALE:GREGORIAN
METHOD:PUBLISH
X-WR-CALNAME:Focales
X-ORIGINAL-URL:https://focales.org/velotopia-suivi-dun-debat/
X-WR-CALDESC:VELOTOPIA SUIVI D&rsquo;UN DÉBAT
BEGIN:VEVENT
DTSTART:20160922T153000
DTEND:20160922T173000
SUMMARY:VELOTOPIA SUIVI D&rsquo;UN DÉBAT
DESCRIPTION:
LOCATION:Café Lecture les Augustes, Rue sous les Augustins, Clermont-Ferrand
END:VEVENT
END:VCALENDAR
