BEGIN:VCALENDAR
VERSION:2.0
PRODID:-//Focales
CALSCALE:GREGORIAN
METHOD:PUBLISH
X-WR-CALNAME:Focales
X-ORIGINAL-URL:https://focales.org/concours-video-1-minute-videoformes/
X-WR-CALDESC:CONCOURS VIDÉO 1 MINUTE VIDÉOFORMES
BEGIN:VEVENT
DTSTART:20160901T090000
DTEND:20170206T235900
SUMMARY:CONCOURS VIDÉO 1 MINUTE VIDÉOFORMES
DESCRIPTION:
LOCATION:VIDEOFORMES, 194 Boulevard Gustave Flaubert, 63000 Clermont-Ferrand
END:VEVENT
END:VCALENDAR
