BEGIN:VCALENDAR
VERSION:2.0
PRODID:-//Focales
CALSCALE:GREGORIAN
METHOD:PUBLISH
X-WR-CALNAME:Focales
X-ORIGINAL-URL:https://focales.org/rencontre-avec-jean-pierre-mocky/
X-WR-CALDESC:LES COMPAGNONS DE LA POMPONETTE EN PRESENCE DU REALISATEUR
BEGIN:VEVENT
DTSTART:20161016T150000
DTEND:20161016T180000
SUMMARY:LES COMPAGNONS DE LA POMPONETTE EN PRESENCE DU REALISATEUR
DESCRIPTION:
LOCATION:Cinéma Le Rio, Rue sous les Vignes, Clermont-Ferrand
END:VEVENT
END:VCALENDAR
