BEGIN:VCALENDAR
VERSION:2.0
PRODID:-//Focales
CALSCALE:GREGORIAN
METHOD:PUBLISH
X-WR-CALNAME:Focales
X-ORIGINAL-URL:https://focales.org/empreintes-au-rio-en-presence-des-realisateurs/
X-WR-CALDESC:EMPREINTES AU RIO EN PRÉSENCE DES RÉALISATEURS
BEGIN:VEVENT
DTSTART:20161114T200000
DTEND:20161114T230000
SUMMARY:EMPREINTES AU RIO EN PRÉSENCE DES RÉALISATEURS
DESCRIPTION:
LOCATION:Cinéma Le Rio, Rue sous les Vignes, Clermont-Ferrand
END:VEVENT
END:VCALENDAR
