BEGIN:VCALENDAR
VERSION:2.0
PRODID:-//Focales
CALSCALE:GREGORIAN
METHOD:PUBLISH
X-WR-CALNAME:Focales
X-ORIGINAL-URL:https://focales.org/billy-le-menteur-dans-le-cadre-de-conferences-sur-le-free-cinema/
X-WR-CALDESC:BILLY LE MENTEUR DANS LE CADRE DE CONFÉRENCES SUR LE FREE CINÉMA
BEGIN:VEVENT
DTSTART:20161116T160000
DTEND:20161116T190000
SUMMARY:BILLY LE MENTEUR DANS LE CADRE DE CONFÉRENCES SUR LE FREE CINÉMA
DESCRIPTION:
LOCATION:Cinéma Le Rio, Rue sous les Vignes, Clermont-Ferrand
END:VEVENT
END:VCALENDAR
