BEGIN:VCALENDAR
VERSION:2.0
PRODID:-//Focales
CALSCALE:GREGORIAN
METHOD:PUBLISH
X-WR-CALNAME:Focales
X-ORIGINAL-URL:https://focales.org/le-cinema-danimation-par-antoine-lopez/
X-WR-CALDESC:LE CINEMA D&rsquo;ANIMATION PAR ANTOINE LOPEZ
BEGIN:VEVENT
DTSTART:20161005T200000
DTEND:20161005T220000
SUMMARY:LE CINEMA D&rsquo;ANIMATION PAR ANTOINE LOPEZ
DESCRIPTION:
LOCATION:Cinéma le Rio, 178 rue Sous Les Vignes, Clermont-Ferrand
END:VEVENT
END:VCALENDAR
