BEGIN:VCALENDAR
VERSION:2.0
PRODID:-//Focales
CALSCALE:GREGORIAN
METHOD:PUBLISH
X-WR-CALNAME:Focales
X-ORIGINAL-URL:https://focales.org/atelier-film-animation-pour-les-vacances/
X-WR-CALDESC:ATELIER FILM ANIMATION POUR LES VACANCES
BEGIN:VEVENT
DTSTART:20161024T140000
DTEND:20161028T170000
SUMMARY:ATELIER FILM ANIMATION POUR LES VACANCES
DESCRIPTION:
LOCATION:Centre Blaise-Pascal, 3 rue Maréchal-Joffre, 63000 Clermont-Ferrand
END:VEVENT
END:VCALENDAR
