BEGIN:VCALENDAR
VERSION:2.0
PRODID:-//Focales
CALSCALE:GREGORIAN
METHOD:PUBLISH
X-WR-CALNAME:Focales
X-ORIGINAL-URL:https://focales.org/avant-premiere-dissei-court-metrage-tourne-a-clermont-fd/
X-WR-CALDESC:AVANT-PREMIÈRE D&rsquo;ISSEI, EN PRÉSENCE DU RÉALISATEUR
BEGIN:VEVENT
DTSTART:20161025T203000
DTEND:20161025T213000
SUMMARY:AVANT-PREMIÈRE D&rsquo;ISSEI, EN PRÉSENCE DU RÉALISATEUR
DESCRIPTION:
LOCATION:6 place Michel de l'Hospital, 63000 Clermont-Ferrand
END:VEVENT
END:VCALENDAR
