BEGIN:VCALENDAR
VERSION:2.0
PRODID:-//Focales
CALSCALE:GREGORIAN
METHOD:PUBLISH
X-WR-CALNAME:Focales
X-ORIGINAL-URL:https://focales.org/projection-sac-la-mort-en-presence-du-realisateur/
X-WR-CALDESC:PROJECTION SAC-LA-MORT EN PRÉSENCE DU RÉALISATEUR
BEGIN:VEVENT
DTSTART:20161206T200000
DTEND:20161206T220000
SUMMARY:PROJECTION SAC-LA-MORT EN PRÉSENCE DU RÉALISATEUR
DESCRIPTION:
LOCATION:16 Rue Marcellin Desboutins, 03000 Moulins
END:VEVENT
END:VCALENDAR
