BEGIN:VCALENDAR
VERSION:2.0
PRODID:-//Focales
CALSCALE:GREGORIAN
METHOD:PUBLISH
X-WR-CALNAME:Focales
X-ORIGINAL-URL:https://focales.org/devenez-jury-scolaire-aux-rencontres-cinema-nature/
X-WR-CALDESC:DEVENEZ JURY SCOLAIRE AUX RENCONTRES CINÉ-NATURE
BEGIN:VEVENT
DTSTART:20161021T090000
DTEND:20170201T170000
SUMMARY:DEVENEZ JURY SCOLAIRE AUX RENCONTRES CINÉ-NATURE
DESCRIPTION:
LOCATION:78 place Yves-Déret, 03290 Dompierre-sur-Besbre
END:VEVENT
END:VCALENDAR
