BEGIN:VCALENDAR
VERSION:2.0
PRODID:-//Focales
CALSCALE:GREGORIAN
METHOD:PUBLISH
X-WR-CALNAME:Focales
X-ORIGINAL-URL:https://focales.org/atelier-decriture-litterature-et-cinema/
X-WR-CALDESC:ATELIER D&rsquo;ÉCRITURE LITTÉRATURE ET CINÉMA
BEGIN:VEVENT
DTSTART:20161121T000000
DTEND:20161121T000000
SUMMARY:ATELIER D&rsquo;ÉCRITURE LITTÉRATURE ET CINÉMA
DESCRIPTION:
LOCATION:La Jetée, place Michel de l'Hospital
END:VEVENT
END:VCALENDAR
