BEGIN:VCALENDAR
VERSION:2.0
PRODID:-//Focales
CALSCALE:GREGORIAN
METHOD:PUBLISH
X-WR-CALNAME:Focales
X-ORIGINAL-URL:https://focales.org/17e-rendez-vous-du-carnet-de-voyage/
X-WR-CALDESC:17e RENDEZ-VOUS DU CARNET DE VOYAGE
BEGIN:VEVENT
DTSTART:20161118T000000
DTEND:20161120T000000
SUMMARY:17e RENDEZ-VOUS DU CARNET DE VOYAGE
DESCRIPTION:
LOCATION:Polydome Place du 1er Mai, 63000 Clermont-Ferrand
END:VEVENT
END:VCALENDAR
