BEGIN:VCALENDAR
VERSION:2.0
PRODID:-//Focales
CALSCALE:GREGORIAN
METHOD:PUBLISH
X-WR-CALNAME:Focales
X-ORIGINAL-URL:https://focales.org/traces-de-vie-26e-festival-du-film-documentaire/
X-WR-CALDESC:TRACES DE VIE &#8211; 26E FESTIVAL DU FILM DOCUMENTAIRE
BEGIN:VEVENT
DTSTART:20161121T000000
DTEND:20161127T000000
SUMMARY:TRACES DE VIE &#8211; 26E FESTIVAL DU FILM DOCUMENTAIRE
DESCRIPTION:
LOCATION:Maison de la Culture, rue Abbé de l'épée, Clermont-Ferrand
END:VEVENT
END:VCALENDAR
