BEGIN:VCALENDAR
VERSION:2.0
PRODID:-//Focales
CALSCALE:GREGORIAN
METHOD:PUBLISH
X-WR-CALNAME:Focales
X-ORIGINAL-URL:https://focales.org/au-fil-de-leau-en-presence-de-la-realisatrice/
X-WR-CALDESC:AU FIL DE L&rsquo;EAU EN PRÉSENCE DE LA RÉALISATRICE
BEGIN:VEVENT
DTSTART:20161117T180000
DTEND:20161117T200000
SUMMARY:AU FIL DE L&rsquo;EAU EN PRÉSENCE DE LA RÉALISATRICE
DESCRIPTION:
LOCATION:4 Rue Saint-Pierre, 63590 Cunlhat
END:VEVENT
END:VCALENDAR
