BEGIN:VCALENDAR
VERSION:2.0
PRODID:-//Focales
CALSCALE:GREGORIAN
METHOD:PUBLISH
X-WR-CALNAME:Focales
X-ORIGINAL-URL:https://focales.org/projection-thematique-avec-jean-gabriel-periot/
X-WR-CALDESC:PROJECTION THÉMATIQUE AVEC JEAN-GABRIEL PERIOT
BEGIN:VEVENT
DTSTART:20161130T200000
DTEND:20161130T230000
SUMMARY:PROJECTION THÉMATIQUE AVEC JEAN-GABRIEL PERIOT
DESCRIPTION:
LOCATION:6 place Michel-de-l'Hospital, 63000 Clermont-Ferrand
END:VEVENT
END:VCALENDAR
