BEGIN:VCALENDAR
VERSION:2.0
PRODID:-//Focales
CALSCALE:GREGORIAN
METHOD:PUBLISH
X-WR-CALNAME:Focales
X-ORIGINAL-URL:https://focales.org/remise-des-prix-du-concours-crous/
X-WR-CALDESC:REMISE DES PRIX DU CONCOURS CROUS
BEGIN:VEVENT
DTSTART:20161115T200000
DTEND:20161115T230000
SUMMARY:REMISE DES PRIX DU CONCOURS CROUS
DESCRIPTION:
LOCATION:crous, 25 RUE ETIENNE DOLET, clERMONT-fERRAND
END:VEVENT
END:VCALENDAR
