BEGIN:VCALENDAR
VERSION:2.0
PRODID:-//Focales
CALSCALE:GREGORIAN
METHOD:PUBLISH
X-WR-CALNAME:Focales
X-ORIGINAL-URL:https://focales.org/residence-artistique-musique-a-limage/
X-WR-CALDESC:RÉSIDENCE ARTISTIQUE MUSIQUE À L&rsquo;IMAGE
BEGIN:VEVENT
DTSTART:20161206T000000
DTEND:20161213T000000
SUMMARY:RÉSIDENCE ARTISTIQUE MUSIQUE À L&rsquo;IMAGE
DESCRIPTION:
LOCATION:Auditorium, Chaise-Dieu
END:VEVENT
END:VCALENDAR
