BEGIN:VCALENDAR
VERSION:2.0
PRODID:-//Focales
CALSCALE:GREGORIAN
METHOD:PUBLISH
X-WR-CALNAME:Focales
X-ORIGINAL-URL:https://focales.org/atelier-stop-motion-etudiants/
X-WR-CALDESC:ATELIER STOP-MOTION ÉTUDIANTS
BEGIN:VEVENT
DTSTART:20161123T183000
DTEND:20161123T194500
SUMMARY:ATELIER STOP-MOTION ÉTUDIANTS
DESCRIPTION:
LOCATION:25 rue Etienne Dolet – 63037 Clermont-Ferrand Cedex 1
END:VEVENT
END:VCALENDAR
