BEGIN:VCALENDAR
VERSION:2.0
PRODID:-//Focales
CALSCALE:GREGORIAN
METHOD:PUBLISH
X-WR-CALNAME:Focales
X-ORIGINAL-URL:https://focales.org/atelier-cinerama-pour-les-vacances-scolaires/
X-WR-CALDESC:ATELIER CINÉRAMA POUR LES VACANCES SCOLAIRES
BEGIN:VEVENT
DTSTART:20170418T000000
DTEND:20170424T000000
SUMMARY:ATELIER CINÉRAMA POUR LES VACANCES SCOLAIRES
DESCRIPTION:
LOCATION:3 rue de la muscadière, Chadeleuf
END:VEVENT
END:VCALENDAR
