BEGIN:VCALENDAR
VERSION:2.0
PRODID:-//Focales
CALSCALE:GREGORIAN
METHOD:PUBLISH
X-WR-CALNAME:Focales
X-ORIGINAL-URL:https://focales.org/willy-1er-au-rio-en-presence-des-realisateurs/
X-WR-CALDESC:WILLY 1er AU RIO EN PRÉSENCE DES RÉALISATEURS
BEGIN:VEVENT
DTSTART:20170112T200000
DTEND:20170112T220000
SUMMARY:WILLY 1er AU RIO EN PRÉSENCE DES RÉALISATEURS
DESCRIPTION:
LOCATION:Cinéma le Rio, Clermont-Ferrand
END:VEVENT
END:VCALENDAR
