BEGIN:VCALENDAR
VERSION:2.0
PRODID:-//Focales
CALSCALE:GREGORIAN
METHOD:PUBLISH
X-WR-CALNAME:Focales
X-ORIGINAL-URL:https://focales.org/malefique-avermes/
X-WR-CALDESC:MALÉFIQUE
BEGIN:VEVENT
DTSTART:20150709T221500
DTEND:
SUMMARY:MALÉFIQUE
DESCRIPTION:
LOCATION:46.5863461 3.3054558
END:VEVENT
END:VCALENDAR
