BEGIN:VCALENDAR
VERSION:2.0
PRODID:-//Focales
CALSCALE:GREGORIAN
METHOD:PUBLISH
X-WR-CALNAME:Focales
X-ORIGINAL-URL:https://focales.org/le-chat-du-rabbin-place-victoire-clermont-contresplongees/
X-WR-CALDESC:LE CHAT DU RABBIN
BEGIN:VEVENT
DTSTART:20150721T214500
DTEND:20150721T232000
SUMMARY:LE CHAT DU RABBIN
DESCRIPTION:
LOCATION:Place de la Victoire - Clermont-Ferrand
END:VEVENT
END:VCALENDAR
