BEGIN:VCALENDAR
VERSION:2.0
PRODID:-//Focales
CALSCALE:GREGORIAN
METHOD:PUBLISH
X-WR-CALNAME:Focales
X-ORIGINAL-URL:https://focales.org/x-men-days-of-future-past-montlucon/
X-WR-CALDESC:X-MEN : DAYS OF FUTURE PAST
BEGIN:VEVENT
DTSTART:20150811T214500
DTEND:20150811T235200
SUMMARY:X-MEN : DAYS OF FUTURE PAST
DESCRIPTION:
LOCATION:46.3350226 2.5612563
END:VEVENT
END:VCALENDAR
