BEGIN:VCALENDAR
VERSION:2.0
PRODID:-//Focales
CALSCALE:GREGORIAN
METHOD:PUBLISH
X-WR-CALNAME:Focales
X-ORIGINAL-URL:https://focales.org/des-cines-la-vie-atelier-de-realisation-video/
X-WR-CALDESC:DES CINÉS, LA VIE ! ATELIER DE RÉALISATION VIDÉO
BEGIN:VEVENT
DTSTART:20161219T000000
DTEND:20161223T000000
SUMMARY:DES CINÉS, LA VIE ! ATELIER DE RÉALISATION VIDÉO
DESCRIPTION:
LOCATION:Clermont-Ferrand
END:VEVENT
END:VCALENDAR
