BEGIN:VCALENDAR
VERSION:2.0
PRODID:-//Focales
CALSCALE:GREGORIAN
METHOD:PUBLISH
X-WR-CALNAME:Focales
X-ORIGINAL-URL:https://focales.org/des-cines-la-vie-projections-debats/
X-WR-CALDESC:DES CINÉS, LA VIE ! PROJECTIONS-DÉBATS
BEGIN:VEVENT
DTSTART:20170106T000000
DTEND:20170215T000000
SUMMARY:DES CINÉS, LA VIE ! PROJECTIONS-DÉBATS
DESCRIPTION:
LOCATION:6 place miCHEL DE L'HOSPITAL, clERMONT-fERRAND
END:VEVENT
END:VCALENDAR
