BEGIN:VCALENDAR
VERSION:2.0
PRODID:-//Focales
CALSCALE:GREGORIAN
METHOD:PUBLISH
X-WR-CALNAME:Focales
X-ORIGINAL-URL:https://focales.org/quest-ce-quon-a-fait-au-bon-dieu-thiers/
X-WR-CALDESC:QU&rsquo;EST-CE QU&rsquo;ON A FAIT AU BON DIEU ?
BEGIN:VEVENT
DTSTART:20150812T214500
DTEND:20150812T231700
SUMMARY:QU&rsquo;EST-CE QU&rsquo;ON A FAIT AU BON DIEU ?
DESCRIPTION:
LOCATION:45.8694638 3.4823783
END:VEVENT
END:VCALENDAR
