BEGIN:VCALENDAR
VERSION:2.0
PRODID:-//Focales
CALSCALE:GREGORIAN
METHOD:PUBLISH
X-WR-CALNAME:Focales
X-ORIGINAL-URL:https://focales.org/chantons-sous-la-pluie-moulins/
X-WR-CALDESC:CHANTONS SOUS LA PLUIE
BEGIN:VEVENT
DTSTART:20150811T220000
DTEND:20150811T234200
SUMMARY:CHANTONS SOUS LA PLUIE
DESCRIPTION:
LOCATION:46.5616142 3.3188422
END:VEVENT
END:VCALENDAR
