BEGIN:VCALENDAR
VERSION:2.0
PRODID:-//Focales
CALSCALE:GREGORIAN
METHOD:PUBLISH
X-WR-CALNAME:Focales
X-ORIGINAL-URL:https://focales.org/corniche-kennedy-en-presence-de-la-realisatrice/
X-WR-CALDESC:CORNICHE KENNEDY EN PRÉSENCE DE LA RÉALISATRICE
BEGIN:VEVENT
DTSTART:20170130T200000
DTEND:20170130T230000
SUMMARY:CORNICHE KENNEDY EN PRÉSENCE DE LA RÉALISATRICE
DESCRIPTION:
LOCATION:178 rue Sous les Vignes  Clermont-Ferrand, 63100 France
END:VEVENT
END:VCALENDAR
