BEGIN:VCALENDAR
VERSION:2.0
PRODID:-//Focales
CALSCALE:GREGORIAN
METHOD:PUBLISH
X-WR-CALNAME:Focales
X-ORIGINAL-URL:https://focales.org/the-grand-budapest-hotel-cournon-dauvergne/
X-WR-CALDESC:THE GRAND BUDAPEST HOTEL
BEGIN:VEVENT
DTSTART:20150819T213000
DTEND:20150819T225000
SUMMARY:THE GRAND BUDAPEST HOTEL
DESCRIPTION:
LOCATION:45.7413699 3.2107457
END:VEVENT
END:VCALENDAR
