BEGIN:VCALENDAR
VERSION:2.0
PRODID:-//Focales
CALSCALE:GREGORIAN
METHOD:PUBLISH
X-WR-CALNAME:Focales
X-ORIGINAL-URL:https://focales.org/michel-brandade-et-graffiti-en-presence-du-realisateur/
X-WR-CALDESC:MICHEL, BRANDADE ET GRAFFITI EN PRÉSENCE DU RÉALISATEUR
BEGIN:VEVENT
DTSTART:20170127T200000
DTEND:20170127T220000
SUMMARY:MICHEL, BRANDADE ET GRAFFITI EN PRÉSENCE DU RÉALISATEUR
DESCRIPTION:
LOCATION:178 rue Sous les Vignes  Clermont-Ferrand, 63100 France
END:VEVENT
END:VCALENDAR
