BEGIN:VCALENDAR
VERSION:2.0
PRODID:-//Focales
CALSCALE:GREGORIAN
METHOD:PUBLISH
X-WR-CALNAME:Focales
X-ORIGINAL-URL:https://focales.org/sur-le-chemin-de-lecole-clermont-ferrand/
X-WR-CALDESC:SUR LE CHEMIN DE L&rsquo;ÉCOLE
BEGIN:VEVENT
DTSTART:20150904T213000
DTEND:20150904T224700
SUMMARY:SUR LE CHEMIN DE L&rsquo;ÉCOLE
DESCRIPTION:
LOCATION:45.8118573 3.1004177
END:VEVENT
END:VCALENDAR
