BEGIN:VCALENDAR
VERSION:2.0
PRODID:-//Focales
CALSCALE:GREGORIAN
METHOD:PUBLISH
X-WR-CALNAME:Focales
X-ORIGINAL-URL:https://focales.org/9-mois-ferme-montlucon/
X-WR-CALDESC:9 MOIS FERME
BEGIN:VEVENT
DTSTART:20150701T221500
DTEND:20150701T232700
SUMMARY:9 MOIS FERME
DESCRIPTION:
LOCATION:46.3399309 2.6039095
END:VEVENT
END:VCALENDAR
