BEGIN:VCALENDAR
VERSION:2.0
PRODID:-//Focales
CALSCALE:GREGORIAN
METHOD:PUBLISH
X-WR-CALNAME:Focales
X-ORIGINAL-URL:https://focales.org/atelier-valises-animees-3/
X-WR-CALDESC:ATELIER VALISES ANIMÉES
BEGIN:VEVENT
DTSTART:20170228T143000
DTEND:20170228T163000
SUMMARY:ATELIER VALISES ANIMÉES
DESCRIPTION:
LOCATION:81 rue des Jonquilles, Blanzat
END:VEVENT
END:VCALENDAR
