BEGIN:VCALENDAR
VERSION:2.0
PRODID:-//Focales
CALSCALE:GREGORIAN
METHOD:PUBLISH
X-WR-CALNAME:Focales
X-ORIGINAL-URL:https://focales.org/atelier-valises-animees-2/
X-WR-CALDESC:ATELIER VALISES ANIMÉES
BEGIN:VEVENT
DTSTART:20170223T100000
DTEND:20170223T120000
SUMMARY:ATELIER VALISES ANIMÉES
DESCRIPTION:
LOCATION:9 Place Aragon, 63100 Clermont-Ferrand
END:VEVENT
END:VCALENDAR
