BEGIN:VCALENDAR
VERSION:2.0
PRODID:-//Focales
CALSCALE:GREGORIAN
METHOD:PUBLISH
X-WR-CALNAME:Focales
X-ORIGINAL-URL:https://focales.org/festival-rencontres-realisateurs/
X-WR-CALDESC:FESTIVAL DU COURT MÉTRAGE &#8211; RENCONTRES RÉALISATEURS
BEGIN:VEVENT
DTSTART:20170205T000000
DTEND:20170210T000000
SUMMARY:FESTIVAL DU COURT MÉTRAGE &#8211; RENCONTRES RÉALISATEURS
DESCRIPTION:
LOCATION:Cinéma le Rio, Clermont Ferrand
END:VEVENT
END:VCALENDAR
